BEGIN:VCALENDAR
VERSION:2.0
PRODID:-//Plone.org//NONSGML plone.app.event//EN
X-WR-TIMEZONE:Brazil/East
BEGIN:VEVENT
SUMMARY:Sessão Ordinária - Parlamento Jovem
DTSTART;TZID=Brazil/East;VALUE=DATE-TIME:20260429T140000
DTSTAMP;VALUE=DATE-TIME:20260424T205737Z
UID:bcf00459ebe54cd6829f592015618556@www.saolourencodooeste.sc.leg.br
CREATED;VALUE=DATE-TIME:20260424T195428Z
LAST-MODIFIED;VALUE=DATE-TIME:20260424T195432Z
LOCATION:Câmara Municipal 
URL:https://www.saolourencodooeste.sc.leg.br/institucional/copy_of_eventos
 /sessao-ordinaria-parlamento-jovem-3
END:VEVENT
BEGIN:VTIMEZONE
TZID:Brazil/East
X-LIC-LOCATION:Brazil/East
BEGIN:STANDARD
DTSTART;VALUE=DATE-TIME:20260221T230000
TZNAME:BRT
TZOFFSETFROM:-0200
TZOFFSETTO:-0300
END:STANDARD
END:VTIMEZONE
END:VCALENDAR
