BEGIN:VCALENDAR
VERSION:2.0
PRODID:-//Plone.org//NONSGML plone.app.event//EN
X-WR-TIMEZONE:Brazil/East
BEGIN:VEVENT
SUMMARY:Sessão Ordinária 
DTSTART;TZID=Brazil/East;VALUE=DATE-TIME:20260518T183000
DTSTAMP;VALUE=DATE-TIME:20260424T205057Z
UID:728d4ae06595448bade33a8f341333b8@www.saolourencodooeste.sc.leg.br
CREATED;VALUE=DATE-TIME:20260424T195812Z
LAST-MODIFIED;VALUE=DATE-TIME:20260424T195815Z
LOCATION:Câmara Municipal 
URL:https://www.saolourencodooeste.sc.leg.br/institucional/copy_of_eventos
 /sessao-ordinaria-54
END:VEVENT
BEGIN:VTIMEZONE
TZID:Brazil/East
X-LIC-LOCATION:Brazil/East
BEGIN:STANDARD
DTSTART;VALUE=DATE-TIME:20260221T230000
TZNAME:BRT
TZOFFSETFROM:-0200
TZOFFSETTO:-0300
END:STANDARD
END:VTIMEZONE
END:VCALENDAR
